BEGIN:VCALENDAR
VERSION:2.0
PRODID:-//Webber International University - ECPv6.15.18//NONSGML v1.0//EN
CALSCALE:GREGORIAN
METHOD:PUBLISH
X-WR-CALNAME:Webber International University
X-ORIGINAL-URL:https://www.webber.edu
X-WR-CALDESC:Events for Webber International University
REFRESH-INTERVAL;VALUE=DURATION:PT1H
X-Robots-Tag:noindex
X-PUBLISHED-TTL:PT1H
BEGIN:VTIMEZONE
TZID:America/New_York
BEGIN:DAYLIGHT
TZOFFSETFROM:-0500
TZOFFSETTO:-0400
TZNAME:EDT
DTSTART:20190310T070000
END:DAYLIGHT
BEGIN:STANDARD
TZOFFSETFROM:-0400
TZOFFSETTO:-0500
TZNAME:EST
DTSTART:20191103T060000
END:STANDARD
BEGIN:DAYLIGHT
TZOFFSETFROM:-0500
TZOFFSETTO:-0400
TZNAME:EDT
DTSTART:20200308T070000
END:DAYLIGHT
BEGIN:STANDARD
TZOFFSETFROM:-0400
TZOFFSETTO:-0500
TZNAME:EST
DTSTART:20201101T060000
END:STANDARD
BEGIN:DAYLIGHT
TZOFFSETFROM:-0500
TZOFFSETTO:-0400
TZNAME:EDT
DTSTART:20210314T070000
END:DAYLIGHT
BEGIN:STANDARD
TZOFFSETFROM:-0400
TZOFFSETTO:-0500
TZNAME:EST
DTSTART:20211107T060000
END:STANDARD
BEGIN:DAYLIGHT
TZOFFSETFROM:-0500
TZOFFSETTO:-0400
TZNAME:EDT
DTSTART:20220313T070000
END:DAYLIGHT
BEGIN:STANDARD
TZOFFSETFROM:-0400
TZOFFSETTO:-0500
TZNAME:EST
DTSTART:20221106T060000
END:STANDARD
END:VTIMEZONE
BEGIN:VEVENT
DTSTART;TZID=America/New_York:20210325T170000
DTEND;TZID=America/New_York:20210325T200000
DTSTAMP:20260420T104159
CREATED:20210301T190307Z
LAST-MODIFIED:20210728T021343Z
UID:255464-1616691600-1616702400@www.webber.edu
SUMMARY:Spring Fling - March 25
DESCRIPTION:Spring Fling for all applicants and those just checking out Webber – March 25th with check in at 5pm \n\nOpportunity to mingle with other applicants\nNew College Student Workshop presented by Webber Faculty\nPre-Orientation – Avoid lines at orientation by getting business done early\nTours of Esports building and other fun events on campus\nEnd with a Beach Party and conclusion of event at 8pm\n\n\nRSVP Online\nYou need to complete the registration form below.\n\n\n\n\n  \n\n\n\n \n \n\n \n\n \nWhere did you hear about us? \n—Please choose an option—EmailFacebookGoogle SearchReferral (School/Friend)Attending an EventOther\n \nAre you interested in Esports? \nYesNo\n \n\n \nPlease enter a number greater than or equal to 1.\nPlease input the total number of guests who will be attending this event.
URL:https://www.webber.edu/event/spring-fling/
LOCATION:Webber International University\, 1201 North Scenic Highway\, Babson Park\, FL\, 33827\, United States
CATEGORIES:Community,Current Students,Parents,University Life
ATTACH;FMTTYPE=image/jpeg:https://www.webber.edu/wp-content/uploads/2021/02/GENERAL-INFO-Banner.jpg
ORGANIZER;CN="Admissions":MAILTO:admissions@webber.edu
END:VEVENT
BEGIN:VEVENT
DTSTART;TZID=America/New_York:20210224T170000
DTEND;TZID=America/New_York:20210224T180000
DTSTAMP:20260420T104159
CREATED:20210101T173026Z
LAST-MODIFIED:20210728T025818Z
UID:255436-1614186000-1614189600@www.webber.edu
SUMMARY:RN-BSN Virtual Open House
DESCRIPTION:  \n \n \nLearn more about the RN-BSN program! \nWebber International University will be hosting a Virtual RN-BSN event on \nWednesday\, February 24th at 5:30 pm. \nREGISTER RB-BSN Virtual Event – click here\n  \n 
URL:https://www.webber.edu/event/rn-bsn-virtual-open-house/
LOCATION:FL
CATEGORIES:Community,Prospective Students
ATTACH;FMTTYPE=image/jpeg:https://www.webber.edu/wp-content/uploads/2020/09/stsmall845x845-pad1000x1000f8f8f8.jpg
END:VEVENT
BEGIN:VEVENT
DTSTART;VALUE=DATE:20200704
DTEND;VALUE=DATE:20200705
DTSTAMP:20260420T104159
CREATED:20200512T133926Z
LAST-MODIFIED:20200514T011931Z
UID:253721-1593820800-1593907199@www.webber.edu
SUMMARY:Independence Day – University Closed
DESCRIPTION:
URL:https://www.webber.edu/event/independence-day-university-closed/
LOCATION:FL
CATEGORIES:Community,Current Students,Parents
ATTACH;FMTTYPE=image/jpeg:https://www.webber.edu/wp-content/uploads/2020/05/independence-day-2844644_1280.jpg
END:VEVENT
BEGIN:VEVENT
DTSTART;TZID=America/New_York:20200701T183000
DTEND;TZID=America/New_York:20200701T203000
DTSTAMP:20260420T104159
CREATED:20200623T145651Z
LAST-MODIFIED:20210625T064322Z
UID:254329-1593628200-1593635400@www.webber.edu
SUMMARY:Come explore Webber off the field
DESCRIPTION:July 1st @ 6:30 pm – Join us as we take a closer look at Student Life – Financial Aid Merit Award. There will be a host of presentations ranging from faculty presentations on Webber degrees\, job placement\, student interaction\, honors programs\, new health degrees and more! \nRegister in Advance
URL:https://www.webber.edu/event/come-explore-webber-off-the-field/
LOCATION:FL
CATEGORIES:Career,Community,Parents,Prospective Students,University Life
ATTACH;FMTTYPE=image/jpeg:https://www.webber.edu/wp-content/uploads/2020/06/Webber-Event.jpg
ORGANIZER;CN="Admissions":MAILTO:admissions@webber.edu
END:VEVENT
BEGIN:VEVENT
DTSTART;VALUE=DATE:20200525
DTEND;VALUE=DATE:20200526
DTSTAMP:20260420T104159
CREATED:20200511T163731Z
LAST-MODIFIED:20200526T201346Z
UID:253656-1590364800-1590451199@www.webber.edu
SUMMARY:Memorial Day – University Closed
DESCRIPTION:
URL:https://www.webber.edu/event/memorial-day-university-closed/
LOCATION:FL
CATEGORIES:Community,Current Students,Parents
ATTACH;FMTTYPE=image/jpeg:https://www.webber.edu/wp-content/uploads/2020/05/memorial-day.jpg
END:VEVENT
BEGIN:VEVENT
DTSTART;TZID=America/New_York:20200501T180000
DTEND;TZID=America/New_York:20200501T210000
DTSTAMP:20260420T104159
CREATED:20200512T132053Z
LAST-MODIFIED:20200514T010110Z
UID:253703-1588356000-1588366800@www.webber.edu
SUMMARY:Graduation
DESCRIPTION:
URL:https://www.webber.edu/event/graduation/
LOCATION:Webber International University\, 1201 North Scenic Highway\, Babson Park\, FL\, 33827\, United States
CATEGORIES:Community,Current Students,Parents
ATTACH;FMTTYPE=image/jpeg:https://www.webber.edu/wp-content/uploads/2016/06/shutterstock_183400235.jpg
END:VEVENT
END:VCALENDAR