BEGIN:VCALENDAR
VERSION:2.0
PRODID:-//Webber International University - ECPv6.15.18//NONSGML v1.0//EN
CALSCALE:GREGORIAN
METHOD:PUBLISH
X-ORIGINAL-URL:https://www.webber.edu
X-WR-CALDESC:Events for Webber International University
REFRESH-INTERVAL;VALUE=DURATION:PT1H
X-Robots-Tag:noindex
X-PUBLISHED-TTL:PT1H
BEGIN:VTIMEZONE
TZID:America/New_York
BEGIN:DAYLIGHT
TZOFFSETFROM:-0500
TZOFFSETTO:-0400
TZNAME:EDT
DTSTART:20190310T070000
END:DAYLIGHT
BEGIN:STANDARD
TZOFFSETFROM:-0400
TZOFFSETTO:-0500
TZNAME:EST
DTSTART:20191103T060000
END:STANDARD
BEGIN:DAYLIGHT
TZOFFSETFROM:-0500
TZOFFSETTO:-0400
TZNAME:EDT
DTSTART:20200308T070000
END:DAYLIGHT
BEGIN:STANDARD
TZOFFSETFROM:-0400
TZOFFSETTO:-0500
TZNAME:EST
DTSTART:20201101T060000
END:STANDARD
BEGIN:DAYLIGHT
TZOFFSETFROM:-0500
TZOFFSETTO:-0400
TZNAME:EDT
DTSTART:20210314T070000
END:DAYLIGHT
BEGIN:STANDARD
TZOFFSETFROM:-0400
TZOFFSETTO:-0500
TZNAME:EST
DTSTART:20211107T060000
END:STANDARD
BEGIN:DAYLIGHT
TZOFFSETFROM:-0500
TZOFFSETTO:-0400
TZNAME:EDT
DTSTART:20220313T070000
END:DAYLIGHT
BEGIN:STANDARD
TZOFFSETFROM:-0400
TZOFFSETTO:-0500
TZNAME:EST
DTSTART:20221106T060000
END:STANDARD
BEGIN:DAYLIGHT
TZOFFSETFROM:-0500
TZOFFSETTO:-0400
TZNAME:EDT
DTSTART:20230312T070000
END:DAYLIGHT
BEGIN:STANDARD
TZOFFSETFROM:-0400
TZOFFSETTO:-0500
TZNAME:EST
DTSTART:20231105T060000
END:STANDARD
BEGIN:DAYLIGHT
TZOFFSETFROM:-0500
TZOFFSETTO:-0400
TZNAME:EDT
DTSTART:20240310T070000
END:DAYLIGHT
BEGIN:STANDARD
TZOFFSETFROM:-0400
TZOFFSETTO:-0500
TZNAME:EST
DTSTART:20241103T060000
END:STANDARD
BEGIN:DAYLIGHT
TZOFFSETFROM:-0500
TZOFFSETTO:-0400
TZNAME:EDT
DTSTART:20250309T070000
END:DAYLIGHT
BEGIN:STANDARD
TZOFFSETFROM:-0400
TZOFFSETTO:-0500
TZNAME:EST
DTSTART:20251102T060000
END:STANDARD
END:VTIMEZONE
BEGIN:VTIMEZONE
TZID:America/Guatemala
BEGIN:STANDARD
TZOFFSETFROM:-0600
TZOFFSETTO:-0600
TZNAME:CST
DTSTART:20190101T000000
END:STANDARD
END:VTIMEZONE
BEGIN:VEVENT
DTSTART;TZID=America/New_York:20240823T090000
DTEND;TZID=America/New_York:20240823T170000
DTSTAMP:20260421T174220
CREATED:20240612T152902Z
LAST-MODIFIED:20240615T152946Z
UID:259003-1724403600-1724432400@www.webber.edu
SUMMARY:Fall 2024 New Student Orientation
DESCRIPTION:Webber International University is excited to welcome you to the Webber family! We look forward to watching you grow and succeed as a student while you are here. This is an exciting time\, and we want you and your family to savor it. As you prepare for your arrival\, pay special attention to your designated check-in time. Please be sure to RSVP for orientation below. \nTo RSVP\, you must have submitted your Registration Fee (and housing deposit if living on campus). Please be sure to finalize everything with all departments prior to arrival to ensure for a smooth check-in process. \nOrientation schedule \nIf you have any questions regarding your status\, please reach out to the offices below: \nAdmissions: Admissions@webber.edu or 863-638-2910\nFinancial Aid: FinancialAid@webber.edu or 863-638-2929\nHousing: Housing@webber.edu or 863-638-2926\nBusiness Office: BusinessOffice@webber.edu or 863-638-2944\nInsurance: Insurance@webber.edu \n﻿
URL:https://www.webber.edu/event/fall-2024-new-student-orientation/
CATEGORIES:Prospective Students
ORGANIZER;CN="Admissions":MAILTO:admissions@webber.edu
END:VEVENT
BEGIN:VEVENT
DTSTART;TZID=America/New_York:20240316T100000
DTEND;TZID=America/New_York:20240316T120000
DTSTAMP:20260421T174220
CREATED:20240215T184858Z
LAST-MODIFIED:20240215T190030Z
UID:258531-1710583200-1710590400@www.webber.edu
SUMMARY:Spring 2024 Open House
DESCRIPTION:🎓 Discover Your Future at Webber International University’s Open House! 🎉 \nJoin us on Saturday\, March 16th\, for an engaging event where you can explore the exciting opportunities awaiting you at Webber. Connect with faculty\, explore our diverse academic programs\, and immerse yourself in our vibrant campus community. Don’t miss this chance to envision your future with us! RSVP now to secure your spot. \nRSVP Here\n9:30AM       Check-in Begins \n10:00AM     Welcome to Webber: Opening Remarks \nJoin us as we kick off our Open House event with a warm welcome to all attendees. During this session\, you’ll hear from key members of the Webber International University community\, including Admissions\, campus leadership\, and student support services. Get a glimpse into the vibrant culture and opportunities that await you at Webber and learn about the resources available to help you succeed. Start your journey with us on the right foot as we welcome you to our campus family. \n10:30AM    Discover Webber \nThis session offers a personalized journey of exploration at our Open House event. Attendees can engage with interactive academic program demonstrations\, connect with representatives from admissions\, financial aid\, and student life\, and embark on guided campus tours. Tailor your experience to your interests and aspirations\, discovering the opportunities that await you at Webber International University. \n11:30PM     Lunch with Student Ambassadors: Your Insider’s Guide to Webber \nJoin us for a delicious lunch accompanied by an enlightening discussion with our student ambassadors. This is your chance to gain firsthand insights into life as a student at Webber International University. Our panel of current students will share their experiences\, from academic pursuits to extracurricular activities and campus involvement. Engage in open dialogue\, ask questions\, and gather invaluable tips and advice to help you navigate your journey at Webber. Don’t miss this opportunity to connect with those who know our university best – our vibrant student community.
URL:https://www.webber.edu/event/spring-2024-open-house/
LOCATION:Webber International University\, 1201 North Scenic Highway\, Babson Park\, FL\, 33827\, United States
CATEGORIES:Prospective Students
ORGANIZER;CN="Admissions":MAILTO:admissions@webber.edu
END:VEVENT
BEGIN:VEVENT
DTSTART;TZID=America/New_York:20231028T093000
DTEND;TZID=America/New_York:20231028T130000
DTSTAMP:20260421T174220
CREATED:20230927T142129Z
LAST-MODIFIED:20230928T211046Z
UID:258333-1698485400-1698498000@www.webber.edu
SUMMARY:Fall Open House
DESCRIPTION:Fall Open House\nOctober 28th\, 2023 \nFall has arrived at Webber\, and we are excited to invite you to our campus! At the open house you can expect the following: Tour campus\, learn about the acceptance and financial aid process\, talk to our own students in a student panel\, attend an academic fair with presentations from the Academic Dean\, hear from athletic coaches\, submit applications and much more! \nBring your transcripts for immediate acceptance decisions.\nCheck in will begin at 9:30am in the Yentes Center and the event will begin at 10:00am. Lunch will be served\, and we hope to see you there! \n\n\n  \n\n\n\n \n \n\n \n\n \n\n \n\n \nPlease input the total number of guests who will be attending this event (Number greater than or equal to 1).\n \nProgram of Interest \n—Please choose an option—AccountingComputer Information SystemsCriminal Justice ManagementElementary EducationFinanceGeneral Business StudiesHospitality & Tourism ManagementIntegrated Marketing CommunicationsManagementSport Business ManagementPsychologyMiddle Grades Teacher EducationSpecial EducationHealth Services AdministrationSports Performance\, Health\, & FitnessNursingUndecided\n \nSport \n—Please choose an option—Non AthleteEsportsFishing ClubFootballTrack & FieldBeach VolleyballBowlingBasketballBaseballSoftballLacrosseSoccerGolfVolleyballCheerleadingFlag FootballCross Country
URL:https://www.webber.edu/event/fall-open-house/
LOCATION:Webber International University\, 1201 North Scenic Highway\, Babson Park\, FL\, 33827\, United States
CATEGORIES:October,Prospective Students
ATTACH;FMTTYPE=image/jpeg:https://www.webber.edu/wp-content/uploads/2023/09/IMG_4141-scaled.jpg
END:VEVENT
BEGIN:VEVENT
DTSTART;TZID=America/New_York:20230728T093000
DTEND;TZID=America/New_York:20230728T140000
DTSTAMP:20260421T174220
CREATED:20230715T130000Z
LAST-MODIFIED:20230717T130410Z
UID:258292-1690536600-1690552800@www.webber.edu
SUMMARY:Warrior Day July 28\, 2023
DESCRIPTION:Welcome Fall 2023 New Students!\nFriday\, July 28th\, 2023\n9:30 AM – Check in at the Yentes Center\n\nFinancial Aid – Finalize any needed items – submit Health Insurance!\nBusiness Office – Finalize any payment plan options – monthly plans available!\nAcademic Advising – Finalize your Fall 2023 class schedule!\nStudent Life & Housing – Say CHEESE! – Have your student ID photo taken!\n\n\n\n\nWarrior Day Registration\n\n\n\n\n  \n\n\n\n \n \n\n \n\n \n\n \nWhere did you hear about us? \n—Please choose an option—EmailFacebookGoogle SearchReferral (School/Friend)Attending an EventOther\n \nAre you interested in Esports? \nYesNo\n \n\n \nPlease enter a number greater than or equal to 1.\nPlease input the total number of guests who will be attending this event.
URL:https://www.webber.edu/event/warrior-day-july-28-2023/
LOCATION:Webber International University\, 1201 North Scenic Highway\, Babson Park\, FL\, 33827\, United States
CATEGORIES:July,Parents,Prospective Students,University Life
ATTACH;FMTTYPE=image/jpeg:https://www.webber.edu/wp-content/uploads/2020/01/Student-Life.jpg
ORGANIZER;CN="Academic Advising":MAILTO:lambethl@webber.edu
END:VEVENT
BEGIN:VEVENT
DTSTART;TZID=America/New_York:20230516T183000
DTEND;TZID=America/New_York:20230516T193000
DTSTAMP:20260421T174220
CREATED:20230417T144307Z
LAST-MODIFIED:20230421T145457Z
UID:258143-1684261800-1684265400@www.webber.edu
SUMMARY:Graduate School Information Session
DESCRIPTION:May 16th\, 2023 @ 6:30 PM \nFollow this link to learn more about Graduate School at Webber International University and to register for this online information session. \nGraduate School Information Session
URL:https://www.webber.edu/event/graduate-school-information-session/
CATEGORIES:May,Prospective Students
ATTACH;FMTTYPE=image/jpeg:https://www.webber.edu/wp-content/uploads/2020/01/Traditional-MBA.jpg
END:VEVENT
BEGIN:VEVENT
DTSTART;TZID=America/New_York:20230513T100000
DTEND;TZID=America/New_York:20230513T140000
DTSTAMP:20260421T174220
CREATED:20230407T130728Z
LAST-MODIFIED:20230428T130817Z
UID:258174-1683972000-1683986400@www.webber.edu
SUMMARY:Warrior Day May 13\, 2023
DESCRIPTION:Welcome Fall 2023 New Students!\nSaturday\, May 13\, 2023\n10:00am – Check in with Admissions\n\nFinancial Aid – Finalize any needed items – submit Health Insurance!\nBusiness Office – Finalize any payment plan options – monthly plans available!\nAcademic Advising – Finalize your Fall 2023 class schedule!\nStudent Life & Housing – Say CHEESE! – Have your student ID photo taken!\n\n\n\n\nWarrior Day Registration\n\n\n\n\n  \n\n\n\n \n \n\n \n\n \n\n \nWhere did you hear about us? \n—Please choose an option—EmailFacebookGoogle SearchReferral (School/Friend)Attending an EventOther\n \nAre you interested in Esports? \nYesNo\n \n\n \nPlease enter a number greater than or equal to 1.\nPlease input the total number of guests who will be attending this event.
URL:https://www.webber.edu/event/warrior-day-may-13-2023/
LOCATION:Webber International University\, 1201 North Scenic Highway\, Babson Park\, FL\, 33827\, United States
CATEGORIES:May,Parents,Prospective Students,University Life
ATTACH;FMTTYPE=image/jpeg:https://www.webber.edu/wp-content/uploads/2020/01/Student-Life.jpg
ORGANIZER;CN="Academic Advising":MAILTO:lambethl@webber.edu
END:VEVENT
BEGIN:VEVENT
DTSTART;TZID=America/New_York:20230401T093000
DTEND;TZID=America/New_York:20230401T130000
DTSTAMP:20260421T174220
CREATED:20230223T143427Z
LAST-MODIFIED:20230227T161511Z
UID:257891-1680341400-1680354000@www.webber.edu
SUMMARY:Spring Open House
DESCRIPTION:Spring Open House\nApril 1\, 2023 \nSpring has sprung at Webber\, and we are excited to invite you to our campus! At the open house you can expect the following: Tour campus\, learn about the acceptance and financial aid process\, talk to our own students in a student panel\, attend an academic fair with presentations from the Academic Dean\, hear from athletic coaches\, submit applications and much more! \nBring your transcripts for immediate acceptance decisions.\nCheck in will begin at 9:30am in the Yentes Center and the event will begin at 10:00am. Lunch will be served\, and we hope to see you there! \n\n\n  \n\n\n\n \n \n\n \n\n \n\n \n\n \nPlease input the total number of guests who will be attending this event (Number greater than or equal to 1).\n \nProgram of Interest \n—Please choose an option—AccountingComputer Information SystemsCriminal Justice ManagementElementary EducationFinanceGeneral Business StudiesHospitality & Tourism ManagementIntegrated Marketing CommunicationsManagementSport Business ManagementPsychologyMiddle Grades Teacher EducationSpecial EducationHealth Services AdministrationSports Performance\, Health\, & FitnessNursingUndecided\n \nSport \n—Please choose an option—Non AthleteEsportsFishing ClubFootballTrack & FieldBeach VolleyballBowlingBasketballBaseballSoftballLacrosseSoccerGolfVolleyballCheerleadingFlag FootballCross Country
URL:https://www.webber.edu/event/spring-open-house/
LOCATION:Webber International University\, 1201 North Scenic Highway\, Babson Park\, FL\, 33827\, United States
CATEGORIES:April,February,March,Prospective Students
ATTACH;FMTTYPE=image/jpeg:https://www.webber.edu/wp-content/uploads/2020/05/120917Webber-International-154.jpg
END:VEVENT
BEGIN:VEVENT
DTSTART;TZID=America/New_York:20221015T100000
DTEND;TZID=America/New_York:20221015T140000
DTSTAMP:20260421T174220
CREATED:20220301T170934Z
LAST-MODIFIED:20220920T172856Z
UID:256466-1665828000-1665842400@www.webber.edu
SUMMARY:Webber Open House
DESCRIPTION:Join Webber International University for our Open House on October 15th which will coincide with tickets to our home football game vs. Ave Maria. Check is at 9:30 and the event will begin at 10am. \nYour day will include tours of the campus\, some hands-on demonstrations from faculty on our featured programs and an in-depth financial aid workshop. Complete the FAFSA that comes out October 1 to get the most out of this workshop! Bring transcripts and you may be able to finalize your acceptance while you are here! \nLunch will be provided\, and you will be invited to attend our football game. Seats are extremely limited so please bring chairs if you are able! We hope to see you there! \nContact Admissions with any questions! \nadmissions@webber.edu \n863.638.2929 \nCheck in begins at 9:30 with the event to begin at 10:00 am. \nRSVP today! \n\n\n  \n\n\n\n \n \n\n \n\n \n\n \n\n \n\n \nPlease enter a number greater than or equal to 1.\nPlease input the total number of guests who will be attending this event.\n \nWhere did you hear about us?\n—Please choose an option—EmailFacebookGoogle SearchReferral (School/Friend)Attending an EventOther\n \nAre you interested in Esports?\nYesNo
URL:https://www.webber.edu/event/openhouse/
LOCATION:Webber International University\, 1201 North Scenic Highway\, Babson Park\, FL\, 33827\, United States
CATEGORIES:October,Parents,Prospective Students,September
ATTACH;FMTTYPE=image/jpeg:https://www.webber.edu/wp-content/uploads/2021/02/GENERAL-INFO2.jpg
ORGANIZER;CN="Admissions":MAILTO:admissions@webber.edu
END:VEVENT
BEGIN:VEVENT
DTSTART;TZID=America/New_York:20220309T190000
DTEND;TZID=America/New_York:20220309T200000
DTSTAMP:20260421T174220
CREATED:20211201T192617Z
LAST-MODIFIED:20220328T213358Z
UID:257211-1646852400-1646856000@www.webber.edu
SUMMARY:Virtual Open House - OTA Bachelor's Degree Program
DESCRIPTION:  \nJoin Webber International University for an inside look at our Bachelor of Science in Occupational Therapy Assistant (BSOTA) with a minor in Health Services Administration! Hear from our department head and learn all you need to know about the application process. \nWe hope to see you there! \nRegister in advance for this meeting:
URL:https://www.webber.edu/event/virtual-open-house-ota-bachelors-degree/
LOCATION:Virtual event via zoom\, 1201 North Scenic Highway\, Babson Park\, FL\, 33827\, United States
CATEGORIES:Parents,Prospective Students
ATTACH;FMTTYPE=image/png:https://www.webber.edu/wp-content/uploads/2022/03/BSOTA-Virtual-Open-House-.png
ORGANIZER;CN="Admissions":MAILTO:admissions@webber.edu
END:VEVENT
BEGIN:VEVENT
DTSTART;TZID=America/New_York:20220212T090000
DTEND;TZID=America/New_York:20220212T143000
DTSTAMP:20260421T174220
CREATED:20230201T144941Z
LAST-MODIFIED:20230202T142757Z
UID:257062-1644656400-1644676200@www.webber.edu
SUMMARY:Webber Warriors Women's Lacrosse Visit Day
DESCRIPTION:Webber Warriors\nWomen’s Lacrosse Campus Visit Day\nWHEN: Saturday\, February 12\, 2022 \nTIME: Check In Begins at 8:30am \nWelcome at 9:00am \nJoin the Webber Warriors team from Admissions & Athletics for a fun day at Webber! \nYour day will include time with Admissions\, campus tour\, WLAX Clinic (bring your gear!) lunch AND stay for tailgating and cheer on the Warriors WLAX for game day at 3:30pm! \nREGISTER TO ATTEND! \n\n\n  \n\n\n\n \n \n\n \n\n \n\n \n\n \n\n \nPlease enter a number greater than or equal to 1.\nPlease input the total number of guests who will be attending this event.\n \nWhere did you hear about us?\n—Please choose an option—EmailFacebookGoogle SearchReferral (School/Friend)Attending an EventOther\n \nAre you interested in Esports?\nYesNo
URL:https://www.webber.edu/event/webber-warriors-womens-lacrosse-visit-day/
LOCATION:Webber International University\, 1201 North Scenic Highway\, Babson Park\, FL\, 33827\, United States
CATEGORIES:February,Prospective Students
ATTACH;FMTTYPE=image/jpeg:https://www.webber.edu/wp-content/uploads/2020/01/No-Photo-Icon.jpg
ORGANIZER;CN="Admissions":MAILTO:admissions@webber.edu
END:VEVENT
BEGIN:VEVENT
DTSTART;TZID=America/New_York:20220128T100000
DTEND;TZID=America/New_York:20220128T150000
DTSTAMP:20260421T174220
CREATED:20211122T142920Z
LAST-MODIFIED:20211222T165009Z
UID:257059-1643364000-1643382000@www.webber.edu
SUMMARY:Webber Men's Lacrosse GAME DAY Campus Visit
DESCRIPTION:Webber Warriors \nMen’s Lacrosse Visit Day \nWHEN: Friday\, January 28\, 2022 \nTIME: 10:00am – 3:00pm \nNo costs required for lunch or game tickets. \nYou are invited to join the Webber Warriors from Admissions & Athletics for campus tours\, MLAX position breakout sessions\, watch the Warriors take on Taylor University! \n  \nREGISTER to ATTEND! \n\n\n  \n\n\n\n \n \n\n \n\n \n\n \n\n \n\n \nPlease enter a number greater than or equal to 1.\nPlease input the total number of guests who will be attending this event.\n \nWhere did you hear about us?\n—Please choose an option—EmailFacebookGoogle SearchReferral (School/Friend)Attending an EventOther\n \nAre you interested in Esports?\nYesNo\n \n\n \n\n\n \n  \n 
URL:https://www.webber.edu/event/webber-mens-lacrosse-visit-on-game-day/
LOCATION:Webber International University\, 1201 North Scenic Highway\, Babson Park\, FL\, 33827\, United States
CATEGORIES:December,January,Prospective Students,University Life
ATTACH;FMTTYPE=image/jpeg:https://www.webber.edu/wp-content/uploads/2021/11/Warrior-mascot-final-02-e1676914868964.jpg
ORGANIZER;CN="Admissions":MAILTO:admissions@webber.edu
END:VEVENT
BEGIN:VEVENT
DTSTART;TZID=America/New_York:20210224T170000
DTEND;TZID=America/New_York:20210224T180000
DTSTAMP:20260421T174220
CREATED:20210101T173026Z
LAST-MODIFIED:20210728T025818Z
UID:255436-1614186000-1614189600@www.webber.edu
SUMMARY:RN-BSN Virtual Open House
DESCRIPTION:  \n \n \nLearn more about the RN-BSN program! \nWebber International University will be hosting a Virtual RN-BSN event on \nWednesday\, February 24th at 5:30 pm. \nREGISTER RB-BSN Virtual Event – click here\n  \n 
URL:https://www.webber.edu/event/rn-bsn-virtual-open-house/
CATEGORIES:Community,Prospective Students
ATTACH;FMTTYPE=image/jpeg:https://www.webber.edu/wp-content/uploads/2020/09/stsmall845x845-pad1000x1000f8f8f8.jpg
END:VEVENT
BEGIN:VEVENT
DTSTART;TZID=America/New_York:20200701T183000
DTEND;TZID=America/New_York:20200701T203000
DTSTAMP:20260421T174220
CREATED:20200623T145651Z
LAST-MODIFIED:20210625T064322Z
UID:254329-1593628200-1593635400@www.webber.edu
SUMMARY:Come explore Webber off the field
DESCRIPTION:July 1st @ 6:30 pm – Join us as we take a closer look at Student Life – Financial Aid Merit Award. There will be a host of presentations ranging from faculty presentations on Webber degrees\, job placement\, student interaction\, honors programs\, new health degrees and more! \nRegister in Advance
URL:https://www.webber.edu/event/come-explore-webber-off-the-field/
CATEGORIES:Career,Community,Parents,Prospective Students,University Life
ATTACH;FMTTYPE=image/jpeg:https://www.webber.edu/wp-content/uploads/2020/06/Webber-Event.jpg
ORGANIZER;CN="Admissions":MAILTO:admissions@webber.edu
END:VEVENT
BEGIN:VEVENT
DTSTART;TZID=America/Guatemala:20200229T090000
DTEND;TZID=America/Guatemala:20200229T120000
DTSTAMP:20260421T174220
CREATED:20200210T172005Z
LAST-MODIFIED:20201117T062343Z
UID:253397-1582966800-1582977600@www.webber.edu
SUMMARY:Track and Field Recruiting Event
DESCRIPTION:Calling all potential Track & Field Athletes! \nMy name is Coach David Andrews and we will have roster spots available for the Track & Field team at Webber International University! We are holding our first Junior / Senior Recruiting day on February 29th\, 2020. Check in for the event is at 9am and the agenda is below. We are looking for student athletes that are interested in joining our Webber Family! Come check out the college\, gain insightful information and see if you have what it takes to run with Webber! Please RSVP by February 22nd to me at andrewsdj@webber.edu or by calling the Admissions Office at 863-638-2910. We will be providing you with free tickets to our other sporting events happening this day as well. We look forward to seeing you there! \n9:00am- 9:30am – Check-in at the Yentes Center\n9:30: Welcome\, Coach Andrews\n9:45: Admissions Overview\, Bobbi Andrews\n10:00: Student Life Overview\, Student Affairs\n10:15: Academics- focus on being a student athlete\n10:30: Strength & Conditioning\, Andrew Stroede\n10:45: Athletic Trainer\, Callie Bobo\n11:00: Track & Field Overview and Q&A\, Coach Andrews and Team Members\n11:00 – Breakout session: Rotation depending on attendance\n*Tour – Admissions / Team Member\n*Application – Lab C\n*Front Rush – Lab C\n*Small groups with coaching staff and Team members\n12:00 – Dismissed to home sporting event with tickets provide with lunch provided \nThere are several sporting events on this day (Baseball @ 12pm & 3PM\, Softball @ 12PM & 2PM\, and Women’s Tennis @ 2PM.)
URL:https://www.webber.edu/event/track-field-recruiting-event/
LOCATION:Webber International University\, 1201 North Scenic Highway\, Babson Park\, FL\, 33827\, United States
CATEGORIES:Athletics,Parents,Prospective Students
ATTACH;FMTTYPE=image/jpeg:https://www.webber.edu/wp-content/uploads/2020/02/Track-Field-Athletes-2.jpg
ORGANIZER;CN="Track &amp%3B Field Athletes":MAILTO:andrewsdj@webber.edu
END:VEVENT
END:VCALENDAR